BEGIN:VCALENDAR
VERSION:2.0
PRODID:-//WRRR - ECPv6.15.20//NONSGML v1.0//EN
CALSCALE:GREGORIAN
METHOD:PUBLISH
X-ORIGINAL-URL:https://wrrr.org
X-WR-CALDESC:Events for WRRR
REFRESH-INTERVAL;VALUE=DURATION:PT1H
X-Robots-Tag:noindex
X-PUBLISHED-TTL:PT1H
BEGIN:VTIMEZONE
TZID:America/Los_Angeles
BEGIN:DAYLIGHT
TZOFFSETFROM:-0800
TZOFFSETTO:-0700
TZNAME:PDT
DTSTART:20260308T100000
END:DAYLIGHT
BEGIN:STANDARD
TZOFFSETFROM:-0700
TZOFFSETTO:-0800
TZNAME:PST
DTSTART:20261101T090000
END:STANDARD
BEGIN:DAYLIGHT
TZOFFSETFROM:-0800
TZOFFSETTO:-0700
TZNAME:PDT
DTSTART:20270314T100000
END:DAYLIGHT
BEGIN:STANDARD
TZOFFSETFROM:-0700
TZOFFSETTO:-0800
TZNAME:PST
DTSTART:20271107T090000
END:STANDARD
BEGIN:DAYLIGHT
TZOFFSETFROM:-0800
TZOFFSETTO:-0700
TZNAME:PDT
DTSTART:20280312T100000
END:DAYLIGHT
BEGIN:STANDARD
TZOFFSETFROM:-0700
TZOFFSETTO:-0800
TZNAME:PST
DTSTART:20281105T090000
END:STANDARD
BEGIN:DAYLIGHT
TZOFFSETFROM:-0800
TZOFFSETTO:-0700
TZNAME:PDT
DTSTART:20290311T100000
END:DAYLIGHT
BEGIN:STANDARD
TZOFFSETFROM:-0700
TZOFFSETTO:-0800
TZNAME:PST
DTSTART:20291104T090000
END:STANDARD
BEGIN:DAYLIGHT
TZOFFSETFROM:-0800
TZOFFSETTO:-0700
TZNAME:PDT
DTSTART:20300310T100000
END:DAYLIGHT
BEGIN:STANDARD
TZOFFSETFROM:-0700
TZOFFSETTO:-0800
TZNAME:PST
DTSTART:20301103T090000
END:STANDARD
BEGIN:DAYLIGHT
TZOFFSETFROM:-0800
TZOFFSETTO:-0700
TZNAME:PDT
DTSTART:20310309T100000
END:DAYLIGHT
BEGIN:STANDARD
TZOFFSETFROM:-0700
TZOFFSETTO:-0800
TZNAME:PST
DTSTART:20311102T090000
END:STANDARD
END:VTIMEZONE
BEGIN:VEVENT
DTSTART;TZID=America/Los_Angeles:20270714T190000
DTEND;TZID=America/Los_Angeles:20270714T200000
DTSTAMP:20260424T032817
CREATED:20260110T121407Z
LAST-MODIFIED:20260110T121407Z
UID:10000158-1815591600-1815595200@wrrr.org
SUMMARY:WRRR Board of Directors Monthly Meeting
DESCRIPTION:https://zoom.us/j/98484862032?pwd=PmTUSP09rfg25ief46a7zxrDuPWDkQ.1
URL:https://wrrr.org/event/wrrr-board-of-directors-monthly-meeting-2/2027-07-14/
LOCATION:https://wrrr.org/event/wrrr-board-of-directors-monthly-meeting-2/2027-07-14/
END:VEVENT
BEGIN:VEVENT
DTSTART;TZID=America/Los_Angeles:20270811T190000
DTEND;TZID=America/Los_Angeles:20270811T200000
DTSTAMP:20260424T032817
CREATED:20260110T121407Z
LAST-MODIFIED:20260110T121407Z
UID:10000159-1818010800-1818014400@wrrr.org
SUMMARY:WRRR Board of Directors Monthly Meeting
DESCRIPTION:https://zoom.us/j/98484862032?pwd=PmTUSP09rfg25ief46a7zxrDuPWDkQ.1
URL:https://wrrr.org/event/wrrr-board-of-directors-monthly-meeting-2/2027-08-11/
LOCATION:https://wrrr.org/event/wrrr-board-of-directors-monthly-meeting-2/2027-08-11/
END:VEVENT
BEGIN:VEVENT
DTSTART;TZID=America/Los_Angeles:20270908T190000
DTEND;TZID=America/Los_Angeles:20270908T200000
DTSTAMP:20260424T032817
CREATED:20260110T121407Z
LAST-MODIFIED:20260110T121407Z
UID:10000160-1820430000-1820433600@wrrr.org
SUMMARY:WRRR Board of Directors Monthly Meeting
DESCRIPTION:https://zoom.us/j/98484862032?pwd=PmTUSP09rfg25ief46a7zxrDuPWDkQ.1
URL:https://wrrr.org/event/wrrr-board-of-directors-monthly-meeting-2/2027-09-08/
LOCATION:https://wrrr.org/event/wrrr-board-of-directors-monthly-meeting-2/2027-09-08/
END:VEVENT
BEGIN:VEVENT
DTSTART;TZID=America/Los_Angeles:20271013T190000
DTEND;TZID=America/Los_Angeles:20271013T200000
DTSTAMP:20260424T032817
CREATED:20260110T121407Z
LAST-MODIFIED:20260110T121407Z
UID:10000161-1823454000-1823457600@wrrr.org
SUMMARY:WRRR Board of Directors Monthly Meeting
DESCRIPTION:https://zoom.us/j/98484862032?pwd=PmTUSP09rfg25ief46a7zxrDuPWDkQ.1
URL:https://wrrr.org/event/wrrr-board-of-directors-monthly-meeting-2/2027-10-13/
LOCATION:https://wrrr.org/event/wrrr-board-of-directors-monthly-meeting-2/2027-10-13/
END:VEVENT
BEGIN:VEVENT
DTSTART;TZID=America/Los_Angeles:20271110T190000
DTEND;TZID=America/Los_Angeles:20271110T200000
DTSTAMP:20260424T032817
CREATED:20260110T121407Z
LAST-MODIFIED:20260110T121407Z
UID:10000162-1825873200-1825876800@wrrr.org
SUMMARY:WRRR Board of Directors Monthly Meeting
DESCRIPTION:https://zoom.us/j/98484862032?pwd=PmTUSP09rfg25ief46a7zxrDuPWDkQ.1
URL:https://wrrr.org/event/wrrr-board-of-directors-monthly-meeting-2/2027-11-10/
LOCATION:https://wrrr.org/event/wrrr-board-of-directors-monthly-meeting-2/2027-11-10/
END:VEVENT
BEGIN:VEVENT
DTSTART;TZID=America/Los_Angeles:20271208T190000
DTEND;TZID=America/Los_Angeles:20271208T200000
DTSTAMP:20260424T032817
CREATED:20260110T121407Z
LAST-MODIFIED:20260110T121407Z
UID:10000163-1828292400-1828296000@wrrr.org
SUMMARY:WRRR Board of Directors Monthly Meeting
DESCRIPTION:https://zoom.us/j/98484862032?pwd=PmTUSP09rfg25ief46a7zxrDuPWDkQ.1
URL:https://wrrr.org/event/wrrr-board-of-directors-monthly-meeting-2/2027-12-08/
LOCATION:https://wrrr.org/event/wrrr-board-of-directors-monthly-meeting-2/2027-12-08/
END:VEVENT
BEGIN:VEVENT
DTSTART;TZID=America/Los_Angeles:20280112T190000
DTEND;TZID=America/Los_Angeles:20280112T200000
DTSTAMP:20260424T032817
CREATED:20260110T121407Z
LAST-MODIFIED:20260110T121407Z
UID:10000164-1831316400-1831320000@wrrr.org
SUMMARY:WRRR Board of Directors Monthly Meeting
DESCRIPTION:https://zoom.us/j/98484862032?pwd=PmTUSP09rfg25ief46a7zxrDuPWDkQ.1
URL:https://wrrr.org/event/wrrr-board-of-directors-monthly-meeting-2/2028-01-12/
LOCATION:https://wrrr.org/event/wrrr-board-of-directors-monthly-meeting-2/2028-01-12/
END:VEVENT
BEGIN:VEVENT
DTSTART;TZID=America/Los_Angeles:20280209T190000
DTEND;TZID=America/Los_Angeles:20280209T200000
DTSTAMP:20260424T032817
CREATED:20260110T121407Z
LAST-MODIFIED:20260110T121407Z
UID:10000165-1833735600-1833739200@wrrr.org
SUMMARY:WRRR Board of Directors Monthly Meeting
DESCRIPTION:https://zoom.us/j/98484862032?pwd=PmTUSP09rfg25ief46a7zxrDuPWDkQ.1
URL:https://wrrr.org/event/wrrr-board-of-directors-monthly-meeting-2/2028-02-09/
LOCATION:https://wrrr.org/event/wrrr-board-of-directors-monthly-meeting-2/2028-02-09/
END:VEVENT
BEGIN:VEVENT
DTSTART;TZID=America/Los_Angeles:20280308T190000
DTEND;TZID=America/Los_Angeles:20280308T200000
DTSTAMP:20260424T032817
CREATED:20260110T121407Z
LAST-MODIFIED:20260110T121407Z
UID:10000166-1836154800-1836158400@wrrr.org
SUMMARY:WRRR Board of Directors Monthly Meeting
DESCRIPTION:https://zoom.us/j/98484862032?pwd=PmTUSP09rfg25ief46a7zxrDuPWDkQ.1
URL:https://wrrr.org/event/wrrr-board-of-directors-monthly-meeting-2/2028-03-08/
LOCATION:https://wrrr.org/event/wrrr-board-of-directors-monthly-meeting-2/2028-03-08/
END:VEVENT
BEGIN:VEVENT
DTSTART;TZID=America/Los_Angeles:20280412T190000
DTEND;TZID=America/Los_Angeles:20280412T200000
DTSTAMP:20260424T032817
CREATED:20260110T121407Z
LAST-MODIFIED:20260110T121407Z
UID:10000167-1839178800-1839182400@wrrr.org
SUMMARY:WRRR Board of Directors Monthly Meeting
DESCRIPTION:https://zoom.us/j/98484862032?pwd=PmTUSP09rfg25ief46a7zxrDuPWDkQ.1
URL:https://wrrr.org/event/wrrr-board-of-directors-monthly-meeting-2/2028-04-12/
LOCATION:https://wrrr.org/event/wrrr-board-of-directors-monthly-meeting-2/2028-04-12/
END:VEVENT
BEGIN:VEVENT
DTSTART;VALUE=DATE:20280506
DTEND;VALUE=DATE:20280507
DTSTAMP:20260424T032817
CREATED:20260218T004514Z
LAST-MODIFIED:20260218T004514Z
UID:10000179-1841184000-1841270399@wrrr.org
SUMMARY:Clean the Green
DESCRIPTION:Save the date for the 42nd ANNUAL Green River Cleanup!!!! Saturday 5-2-26\n\n\nJoin WRRR\, Paddle trails\, OWA\, WKC\, BeWet\, Nature Nuts\, Boy Scouts\, Green River Coalition\, WA state parks\, and other several local clubs (if we missed your group let us know!)\, neighbors and friends at the 41st Annual Green River Cleanup on Saturday May 3th!!! Every year lots of outdoor enthusiast enjoy the day recreating along the river\, and cleaning up trash at the same time. As always\, there will be lots to do for boaters and non boaters. River stretches are rated class II-IV. The last several years proved that we will boat no matter the flow! Hiking and ground crew sections are available from flat trail to adventurous river corridor cleaning. We found some huge trash areas and have local neighbor’s helping out as well! \n\n\nBe prepared for a long day on the river collecting trash. Bring snacks\, dress for some degree of hiking the shoreline\, and most of all have fun and feel good about making our rivers cleaner. There will be a BBQ at Flaming Geyser state park after the cleanup.\n\n\n\n\n\nOnline registration will be available the week prior to the event. In person registration can be done from 10am-11am at the Headworks put in (just before the army corps gate on river left)\, and at Kanasket-Palmer State Park (in the parking lot near ledge drop one) from 9:30am- 10:30am. Help us clean up the Green River and keep it one of the most beautiful rivers you can raft.\n\n\nCleanup members will enjoy free camping at Kanasket-Palmer Campground\, Friday and Saturday nights. Please RSVP if you have an RV. 360-319-6524 \nGRCU will be hosting a BBQ at Flaming Geyser picnic shelter #3 on Saturday afternoon/evening after the event for members (or a $5 donation for non-members). What- you need a time? It’s after the river cleanup safety and sweep boat committee arrives! Come on out!!! Usually it’s starting around 3pm and wrapping up around 6pm +/- river time  \nThe Green River Cleanup **NEEDS YOUR VOLUNTEER** HELP to help make the event smooth and enjoyable for everyone. Please sign up with a trip leader if you are interested in any of the following: \n-Flaming Geyser BBQ helpers \n-Lead Boat-Volunteer organizers\non map and lead ground crews) \n-Sweep boats for Headworks\, Gorge\, Yoyo and to Sous creek \n-Editor for the Greenrivercleanup.org site \n-Rafts and large boats for the Yo-Yo and down to Whitney bridge \n-Special projects\, land based cleanup\n-Boat pod leaders\n-Registration 2 shifts open at headworks.  Easy to run if you aren’t doing shuttle\n-Registration 2 shifts open at kanasket palmer\n-Shuttle organizers (on your own)\n-River safety crews at the Mercury / nozzle area\n-Recycle sorters\n-BBQ Cleanup Helpers\n-Event Cleanup (Sunday)\n-Drivers to move trash and volunteers around the Green River Watershed picking up trash \n-Sunday helpers breaking down the event and picking up trash bags from river access points \n-Someone to lead with taking pictures and volunteer appreciation \nMake sure to check HERE http://www.greenrivercleanup.org for more information and status updates \nMaps are available at www.greenrivercleanup.org \nTrip Leaders:\nGRCU Committee
URL:https://wrrr.org/event/clean-the-green/2028-05-06/
END:VEVENT
BEGIN:VEVENT
DTSTART;TZID=America/Los_Angeles:20280510T190000
DTEND;TZID=America/Los_Angeles:20280510T200000
DTSTAMP:20260424T032817
CREATED:20260110T121407Z
LAST-MODIFIED:20260110T121407Z
UID:10000168-1841598000-1841601600@wrrr.org
SUMMARY:WRRR Board of Directors Monthly Meeting
DESCRIPTION:https://zoom.us/j/98484862032?pwd=PmTUSP09rfg25ief46a7zxrDuPWDkQ.1
URL:https://wrrr.org/event/wrrr-board-of-directors-monthly-meeting-2/2028-05-10/
LOCATION:https://wrrr.org/event/wrrr-board-of-directors-monthly-meeting-2/2028-05-10/
END:VEVENT
BEGIN:VEVENT
DTSTART;TZID=America/Los_Angeles:20280614T190000
DTEND;TZID=America/Los_Angeles:20280614T200000
DTSTAMP:20260424T032817
CREATED:20260110T121407Z
LAST-MODIFIED:20260110T121407Z
UID:10000169-1844622000-1844625600@wrrr.org
SUMMARY:WRRR Board of Directors Monthly Meeting
DESCRIPTION:https://zoom.us/j/98484862032?pwd=PmTUSP09rfg25ief46a7zxrDuPWDkQ.1
URL:https://wrrr.org/event/wrrr-board-of-directors-monthly-meeting-2/2028-06-14/
LOCATION:https://wrrr.org/event/wrrr-board-of-directors-monthly-meeting-2/2028-06-14/
END:VEVENT
BEGIN:VEVENT
DTSTART;TZID=America/Los_Angeles:20280712T190000
DTEND;TZID=America/Los_Angeles:20280712T200000
DTSTAMP:20260424T032817
CREATED:20260110T121407Z
LAST-MODIFIED:20260110T121407Z
UID:10000170-1847041200-1847044800@wrrr.org
SUMMARY:WRRR Board of Directors Monthly Meeting
DESCRIPTION:https://zoom.us/j/98484862032?pwd=PmTUSP09rfg25ief46a7zxrDuPWDkQ.1
URL:https://wrrr.org/event/wrrr-board-of-directors-monthly-meeting-2/2028-07-12/
LOCATION:https://wrrr.org/event/wrrr-board-of-directors-monthly-meeting-2/2028-07-12/
END:VEVENT
BEGIN:VEVENT
DTSTART;TZID=America/Los_Angeles:20280809T190000
DTEND;TZID=America/Los_Angeles:20280809T200000
DTSTAMP:20260424T032817
CREATED:20260110T121407Z
LAST-MODIFIED:20260110T121407Z
UID:10000171-1849460400-1849464000@wrrr.org
SUMMARY:WRRR Board of Directors Monthly Meeting
DESCRIPTION:https://zoom.us/j/98484862032?pwd=PmTUSP09rfg25ief46a7zxrDuPWDkQ.1
URL:https://wrrr.org/event/wrrr-board-of-directors-monthly-meeting-2/2028-08-09/
LOCATION:https://wrrr.org/event/wrrr-board-of-directors-monthly-meeting-2/2028-08-09/
END:VEVENT
BEGIN:VEVENT
DTSTART;TZID=America/Los_Angeles:20280913T190000
DTEND;TZID=America/Los_Angeles:20280913T200000
DTSTAMP:20260424T032817
CREATED:20260110T121407Z
LAST-MODIFIED:20260110T121407Z
UID:10000172-1852484400-1852488000@wrrr.org
SUMMARY:WRRR Board of Directors Monthly Meeting
DESCRIPTION:https://zoom.us/j/98484862032?pwd=PmTUSP09rfg25ief46a7zxrDuPWDkQ.1
URL:https://wrrr.org/event/wrrr-board-of-directors-monthly-meeting-2/2028-09-13/
LOCATION:https://wrrr.org/event/wrrr-board-of-directors-monthly-meeting-2/2028-09-13/
END:VEVENT
BEGIN:VEVENT
DTSTART;VALUE=DATE:20290505
DTEND;VALUE=DATE:20290506
DTSTAMP:20260424T032817
CREATED:20260218T004514Z
LAST-MODIFIED:20260218T004514Z
UID:10000180-1872633600-1872719999@wrrr.org
SUMMARY:Clean the Green
DESCRIPTION:Save the date for the 42nd ANNUAL Green River Cleanup!!!! Saturday 5-2-26\n\n\nJoin WRRR\, Paddle trails\, OWA\, WKC\, BeWet\, Nature Nuts\, Boy Scouts\, Green River Coalition\, WA state parks\, and other several local clubs (if we missed your group let us know!)\, neighbors and friends at the 41st Annual Green River Cleanup on Saturday May 3th!!! Every year lots of outdoor enthusiast enjoy the day recreating along the river\, and cleaning up trash at the same time. As always\, there will be lots to do for boaters and non boaters. River stretches are rated class II-IV. The last several years proved that we will boat no matter the flow! Hiking and ground crew sections are available from flat trail to adventurous river corridor cleaning. We found some huge trash areas and have local neighbor’s helping out as well! \n\n\nBe prepared for a long day on the river collecting trash. Bring snacks\, dress for some degree of hiking the shoreline\, and most of all have fun and feel good about making our rivers cleaner. There will be a BBQ at Flaming Geyser state park after the cleanup.\n\n\n\n\n\nOnline registration will be available the week prior to the event. In person registration can be done from 10am-11am at the Headworks put in (just before the army corps gate on river left)\, and at Kanasket-Palmer State Park (in the parking lot near ledge drop one) from 9:30am- 10:30am. Help us clean up the Green River and keep it one of the most beautiful rivers you can raft.\n\n\nCleanup members will enjoy free camping at Kanasket-Palmer Campground\, Friday and Saturday nights. Please RSVP if you have an RV. 360-319-6524 \nGRCU will be hosting a BBQ at Flaming Geyser picnic shelter #3 on Saturday afternoon/evening after the event for members (or a $5 donation for non-members). What- you need a time? It’s after the river cleanup safety and sweep boat committee arrives! Come on out!!! Usually it’s starting around 3pm and wrapping up around 6pm +/- river time  \nThe Green River Cleanup **NEEDS YOUR VOLUNTEER** HELP to help make the event smooth and enjoyable for everyone. Please sign up with a trip leader if you are interested in any of the following: \n-Flaming Geyser BBQ helpers \n-Lead Boat-Volunteer organizers\non map and lead ground crews) \n-Sweep boats for Headworks\, Gorge\, Yoyo and to Sous creek \n-Editor for the Greenrivercleanup.org site \n-Rafts and large boats for the Yo-Yo and down to Whitney bridge \n-Special projects\, land based cleanup\n-Boat pod leaders\n-Registration 2 shifts open at headworks.  Easy to run if you aren’t doing shuttle\n-Registration 2 shifts open at kanasket palmer\n-Shuttle organizers (on your own)\n-River safety crews at the Mercury / nozzle area\n-Recycle sorters\n-BBQ Cleanup Helpers\n-Event Cleanup (Sunday)\n-Drivers to move trash and volunteers around the Green River Watershed picking up trash \n-Sunday helpers breaking down the event and picking up trash bags from river access points \n-Someone to lead with taking pictures and volunteer appreciation \nMake sure to check HERE http://www.greenrivercleanup.org for more information and status updates \nMaps are available at www.greenrivercleanup.org \nTrip Leaders:\nGRCU Committee
URL:https://wrrr.org/event/clean-the-green/2029-05-05/
END:VEVENT
BEGIN:VEVENT
DTSTART;VALUE=DATE:20300504
DTEND;VALUE=DATE:20300505
DTSTAMP:20260424T032817
CREATED:20260218T004514Z
LAST-MODIFIED:20260218T004514Z
UID:10000181-1904083200-1904169599@wrrr.org
SUMMARY:Clean the Green
DESCRIPTION:Save the date for the 42nd ANNUAL Green River Cleanup!!!! Saturday 5-2-26\n\n\nJoin WRRR\, Paddle trails\, OWA\, WKC\, BeWet\, Nature Nuts\, Boy Scouts\, Green River Coalition\, WA state parks\, and other several local clubs (if we missed your group let us know!)\, neighbors and friends at the 41st Annual Green River Cleanup on Saturday May 3th!!! Every year lots of outdoor enthusiast enjoy the day recreating along the river\, and cleaning up trash at the same time. As always\, there will be lots to do for boaters and non boaters. River stretches are rated class II-IV. The last several years proved that we will boat no matter the flow! Hiking and ground crew sections are available from flat trail to adventurous river corridor cleaning. We found some huge trash areas and have local neighbor’s helping out as well! \n\n\nBe prepared for a long day on the river collecting trash. Bring snacks\, dress for some degree of hiking the shoreline\, and most of all have fun and feel good about making our rivers cleaner. There will be a BBQ at Flaming Geyser state park after the cleanup.\n\n\n\n\n\nOnline registration will be available the week prior to the event. In person registration can be done from 10am-11am at the Headworks put in (just before the army corps gate on river left)\, and at Kanasket-Palmer State Park (in the parking lot near ledge drop one) from 9:30am- 10:30am. Help us clean up the Green River and keep it one of the most beautiful rivers you can raft.\n\n\nCleanup members will enjoy free camping at Kanasket-Palmer Campground\, Friday and Saturday nights. Please RSVP if you have an RV. 360-319-6524 \nGRCU will be hosting a BBQ at Flaming Geyser picnic shelter #3 on Saturday afternoon/evening after the event for members (or a $5 donation for non-members). What- you need a time? It’s after the river cleanup safety and sweep boat committee arrives! Come on out!!! Usually it’s starting around 3pm and wrapping up around 6pm +/- river time  \nThe Green River Cleanup **NEEDS YOUR VOLUNTEER** HELP to help make the event smooth and enjoyable for everyone. Please sign up with a trip leader if you are interested in any of the following: \n-Flaming Geyser BBQ helpers \n-Lead Boat-Volunteer organizers\non map and lead ground crews) \n-Sweep boats for Headworks\, Gorge\, Yoyo and to Sous creek \n-Editor for the Greenrivercleanup.org site \n-Rafts and large boats for the Yo-Yo and down to Whitney bridge \n-Special projects\, land based cleanup\n-Boat pod leaders\n-Registration 2 shifts open at headworks.  Easy to run if you aren’t doing shuttle\n-Registration 2 shifts open at kanasket palmer\n-Shuttle organizers (on your own)\n-River safety crews at the Mercury / nozzle area\n-Recycle sorters\n-BBQ Cleanup Helpers\n-Event Cleanup (Sunday)\n-Drivers to move trash and volunteers around the Green River Watershed picking up trash \n-Sunday helpers breaking down the event and picking up trash bags from river access points \n-Someone to lead with taking pictures and volunteer appreciation \nMake sure to check HERE http://www.greenrivercleanup.org for more information and status updates \nMaps are available at www.greenrivercleanup.org \nTrip Leaders:\nGRCU Committee
URL:https://wrrr.org/event/clean-the-green/2030-05-04/
END:VEVENT
END:VCALENDAR